BEGIN:VCALENDAR
VERSION:2.0
PRODID:-//Tukios.com/
BEGIN:VEVENT
UID:5a1d9bbc-08af-412c-b26b-8ea36fd60bc8@www.eppsmemorialfuneralhome.com
DTSTAMP:20260423T014633Z
DTSTART:20260515T220000Z
DTEND:20260516T000000Z
SUMMARY:Visitation
DESCRIPTION:
URL:https://www.eppsmemorialfuneralhome.com/obituaries/james-gaines-sr
LOCATION: 445 S 4th St  Lake Wales FL 33853
GEO:27.8947882;-81.5827136
END:VEVENT
END:VCALENDAR