BEGIN:VCALENDAR
VERSION:2.0
PRODID:-//Tukios.com/
BEGIN:VEVENT
UID:194eeb2c-e7ae-43f9-9efd-caf98b3af423@www.eppsmemorialfuneralhome.com
DTSTAMP:20260423T015044Z
DTSTART:20260516T150000Z
DTEND:20260516T160000Z
SUMMARY:Funeral Service
DESCRIPTION:
URL:https://www.eppsmemorialfuneralhome.com/obituaries/james-gaines-sr
LOCATION: 200 Maxcy Dr  Frostproof FL 33843
GEO:27.7136233;-81.545536
END:VEVENT
END:VCALENDAR